BEGIN:VCALENDAR
VERSION:2.0
PRODID:-//San Francisco Zoo &amp; Gardens - ECPv6.12.0.1//NONSGML v1.0//EN
CALSCALE:GREGORIAN
METHOD:PUBLISH
X-WR-CALNAME:San Francisco Zoo &amp; Gardens
X-ORIGINAL-URL:https://www.sfzoo.org
X-WR-CALDESC:Events for San Francisco Zoo &amp; Gardens
REFRESH-INTERVAL;VALUE=DURATION:PT1H
X-Robots-Tag:noindex
X-PUBLISHED-TTL:PT1H
BEGIN:VTIMEZONE
TZID:America/Los_Angeles
BEGIN:DAYLIGHT
TZOFFSETFROM:-0800
TZOFFSETTO:-0700
TZNAME:PDT
DTSTART:20260308T100000
END:DAYLIGHT
BEGIN:STANDARD
TZOFFSETFROM:-0700
TZOFFSETTO:-0800
TZNAME:PST
DTSTART:20261101T090000
END:STANDARD
END:VTIMEZONE
BEGIN:VEVENT
DTSTART;TZID=America/Los_Angeles:20260419T110000
DTEND;TZID=America/Los_Angeles:20260419T150000
DTSTAMP:20260421T220706
CREATED:20260325T200329Z
LAST-MODIFIED:20260417T202913Z
UID:15414-1776596400-1776610800@www.sfzoo.org
SUMMARY:Earthfest
DESCRIPTION:Celebrate Earth Day all weekend long and visit our pop-up village of conservation partners and activities. This year\, the Zoo will welcome special guest organizations at its pop-up EarthFest village. The event also features live entertainment by celebrated musician\, Dave Amato\, plus activities and more. \nEarthFest which takes place each day from 11 a.m. to 3 p.m.\, is an opportunity for the Zoo and its partners to share information about the importance of living sustainably\, available community services and resources\, and conservation efforts taking place locally and globally. Zoo departments will also be on hand to give guests insight on how they keep the Zoo maintained\, how they care for animals\, and the Zoo’s own conservation initiatives\, giving back to the planet. \nParticipating organizations include The Marine Mammal Center\, U.S. Fish & Wildlife Service\, National Wildlife Federation\, San Francisco Transit Riders\, Safe Rides to School\, Recology\, Muskwa Club\, CPALI – Conservation Through Poverty Alleviation International\, American Association of Zoo Keepers (AAZK)\, and various Zoo departments\, including Horticulture\, Conservation\, Environmental Services\, and SF Zoo Docents. \nIn addition\, PawSpace\, whose app is a one-stop solution for pet-parents and their needs\, will be collecting gently-used pet items (leashes\, collars\, toys\, bowls\, small accessories) during EarthFest. Through the PawSpace Foundation\, they deliver donated pet supplies directly to shelters\, rescues\, and foster families in need. \nThe Zoo will also be collecting old electronic devices\, such as cell phones and tablets\, for its Gorillas on the Line campaign benefiting gorilla conservation. \nEarthFest Weekend is free with paid Zoo admission.
URL:https://www.sfzoo.org/calendar/earthfest-2/
END:VEVENT
BEGIN:VEVENT
DTSTART;TZID=America/Los_Angeles:20260418T110000
DTEND;TZID=America/Los_Angeles:20260418T150000
DTSTAMP:20260421T220706
CREATED:20260303T194241Z
LAST-MODIFIED:20260417T202928Z
UID:15095-1776510000-1776524400@www.sfzoo.org
SUMMARY:Earthfest
DESCRIPTION:Celebrate Earth Day all weekend long and visit our pop-up village of conservation partners and activities. This year\, the Zoo will welcome special guest organizations at its pop-up EarthFest village. The event also features live entertainment by celebrated musician\, Dave Amato\, plus activities and more. \nEarthFest which takes place each day from 11 a.m. to 3 p.m.\, is an opportunity for the Zoo and its partners to share information about the importance of living sustainably\, available community services and resources\, and conservation efforts taking place locally and globally. Zoo departments will also be on hand to give guests insight on how they keep the Zoo maintained\, how they care for animals\, and the Zoo’s own conservation initiatives\, giving back to the planet. \nParticipating organizations include The Marine Mammal Center\, U.S. Fish & Wildlife Service\, National Wildlife Federation\, San Francisco Transit Riders\, Safe Rides to School\, Recology\, Muskwa Club\, CPALI – Conservation Through Poverty Alleviation International\, American Association of Zoo Keepers (AAZK)\, and various Zoo departments\, including Horticulture\, Conservation\, Environmental Services\, and SF Zoo Docents. \nIn addition\, PawSpace\, whose app is a one-stop solution for pet-parents and their needs\, will be collecting gently-used pet items (leashes\, collars\, toys\, bowls\, small accessories) during EarthFest. Through the PawSpace Foundation\, they deliver donated pet supplies directly to shelters\, rescues\, and foster families in need. \nThe Zoo will also be collecting old electronic devices\, such as cell phones and tablets\, for its Gorillas on the Line campaign benefiting gorilla conservation. \nEarthFest Weekend is free with paid Zoo admission.
URL:https://www.sfzoo.org/calendar/earthfest/
END:VEVENT
BEGIN:VEVENT
DTSTART;TZID=America/Los_Angeles:20260404T100000
DTEND;TZID=America/Los_Angeles:20260404T120000
DTSTAMP:20260421T220706
CREATED:20260303T191446Z
LAST-MODIFIED:20260303T191446Z
UID:15097-1775296800-1775304000@www.sfzoo.org
SUMMARY:Nature Trail Eggventure
DESCRIPTION:Join us for the Nature Trail Eggventure at the Exploration Zone\, a fun-filled experience for children ages 14 and under! Enjoy educational animal stations hosted by our ARC Interns\, plus a special meet-and-greet with the Easter Bunny. This event is free with zoo admission\, no registration required. Please contact carolm@sfzoo.org with any questions.
URL:https://www.sfzoo.org/calendar/nature-trail-eggventure/
END:VEVENT
BEGIN:VEVENT
DTSTART;TZID=America/Los_Angeles:20260404T090000
DTEND;TZID=America/Los_Angeles:20260404T100000
DTSTAMP:20260421T220706
CREATED:20260226T180949Z
LAST-MODIFIED:20260310T175117Z
UID:15045-1775293200-1775296800@www.sfzoo.org
SUMMARY:Member Mornings
DESCRIPTION:Members get early entry to the Zoo from 9:00 a.m. – 10:00 a.m. Come enjoy the Zoo!
URL:https://www.sfzoo.org/calendar/member-mornings/
END:VEVENT
BEGIN:VEVENT
DTSTART;TZID=America/Los_Angeles:20260402T090000
DTEND;TZID=America/Los_Angeles:20260402T100000
DTSTAMP:20260421T220706
CREATED:20260226T182817Z
LAST-MODIFIED:20260325T221227Z
UID:15049-1775120400-1775124000@www.sfzoo.org
SUMMARY:Senior Mornings Guided Tour
DESCRIPTION:Enjoy a guided walking tour with almost the whole Zoo to yourself. Watch the animals that are active early in the day with a dedicated guide to answer your questions and offer fascinating insights into animal behavior. For guests 65 years and older. \nFREE for Senior level Members\, $10 for non-members\nTickets are available at the ticket box office only.
URL:https://www.sfzoo.org/calendar/senior-mornings-guided-tour-3/
END:VEVENT
BEGIN:VEVENT
DTSTART;TZID=America/Los_Angeles:20260401T100000
DTEND;TZID=America/Los_Angeles:20260401T160000
DTSTAMP:20260421T220706
CREATED:20260325T221126Z
LAST-MODIFIED:20260325T221126Z
UID:15426-1775037600-1775059200@www.sfzoo.org
SUMMARY:SF Resident Free Day
DESCRIPTION:San Francisco Residents receive free admission with proof of SF Residency. Bring your government issued ID to the area where tickets are scanned and receive free entry. One free admission per ID provided in which SF residency is shown.
URL:https://www.sfzoo.org/calendar/sf-resident-free-day-2/
END:VEVENT
BEGIN:VEVENT
DTSTART;TZID=America/Los_Angeles:20260329T090000
DTEND;TZID=America/Los_Angeles:20260329T120000
DTSTAMP:20260421T220706
CREATED:20260226T183257Z
LAST-MODIFIED:20260226T183257Z
UID:15051-1774774800-1774785600@www.sfzoo.org
SUMMARY:Teddy Bear Clinic
DESCRIPTION:Bring your Teddy\, your Plushie\, or your Lovie down to the San Francisco Zoo for a checkup at our Teddy Bear Clinic. Come meet the Veterinarian Team along with their assistants that help keep all of the Animals at the Zoo healthy and happy. \nYou’ll stop by our waiting room in the Service Yard to see the Nutrition Center and how we keep everyone fed and on the right nutritional diet. The Horticulture Team will also be onsite to show you how we feed some of our herbivores. And because a healthy digestive track has to end somewhere\, the Environmental Services Team will be available to give you the scoop on poop. Afterwards it’s time for your friend’s checkup by our Vets and Vet Tech Assistants to get their clean bill of health. \nOnly one Teddy/Plushie/Lovie per child\, 9 – 10 a.m. Members Only Hours\, 10 – 12 p.m. Open for General Public
URL:https://www.sfzoo.org/calendar/teddy-bear-clinic/
END:VEVENT
BEGIN:VEVENT
DTSTART;TZID=America/Los_Angeles:20260317T100000
DTEND;TZID=America/Los_Angeles:20260323T170000
DTSTAMP:20260421T220706
CREATED:20260316T194119Z
LAST-MODIFIED:20260319T203211Z
UID:15281-1773741600-1774285200@www.sfzoo.org
SUMMARY:Neurodiversity Celebration Week
DESCRIPTION:From Tuesday\, March 17 through Monday\, March 23\, we will host our first Neurodiversity Celebration Week\, in tandem with the nationally recognized week. On Saturday\, March 21\, we are offering early admission for members of the neurodiverse community. We will also host a dedicated day featuring information tables on Saturday\, March 21\, from 11 a.m. – 3 p.m. Learn more about the event here: https://www.sfzoo.org/calendar/neurodiversity-celebration-day/ \nWe have been working to accommodate those with heightened sensitivities\, who might need less social interaction or other challenges that neurodiverse individuals might face. As part of the ongoing program\, we have available a downloadable sensory guide to allow users to better navigate their visit. This guide is available to download all week long and can be found here: https://www.sfzoo.org/wp-content/uploads/2026/03/Sensory-Guide.pdf
URL:https://www.sfzoo.org/calendar/neurodiversity-celebration-week/
END:VEVENT
END:VCALENDAR